BEGIN:VCALENDAR
VERSION:2.0
PRODID:-//ChamberMaster//Event Calendar 2.0//EN
METHOD:PUBLISH
X-PUBLISHED-TTL:P3D
REFRESH-INTERVAL:P3D
CALSCALE:GREGORIAN
BEGIN:VEVENT
DTSTART:20141016T230000Z
DTEND:20141017T013000Z
X-MICROSOFT-CDO-ALLDAYEVENT:FALSE
SUMMARY:County Candidate Forum
DESCRIPTION:The DCDC believes strongly in the need for public participation in the electoral process leading up to the general election scheduled on November 4\, 2014. As a courtesy to our members\, investors\, and communities\, we are organizing a series of candidate forums which will raise issues and concerns central to the economic and community vitality of Clinton County.
X-ALT-DESC;FMTTYPE=text/html:The DCDC believes strongly in the need for public participation in the electoral process leading up to the general election scheduled on November 4\, 2014. As a courtesy to our members\, investors\, and communities\, we are organizing a series of candidate forums which will raise issues and concerns central to the economic and community vitality of Clinton County.
LOCATION:De Witt Community Center 512 10th Street\, DeWitt\, IA
UID:e.1774.145
SEQUENCE:3
DTSTAMP:20260421T220203Z
URL:https://business.dewittiowa.org/events/details/county-candidate-forum-10-16-2014-145
END:VEVENT

END:VCALENDAR
