BEGIN:VCALENDAR
VERSION:2.0
PRODID:-//ChamberMaster//Event Calendar 2.0//EN
METHOD:PUBLISH
X-PUBLISHED-TTL:P3D
REFRESH-INTERVAL:P3D
CALSCALE:GREGORIAN
BEGIN:VEVENT
DTSTART:20140722T180000Z
DTEND:20140722T210000Z
X-MICROSOFT-CDO-ALLDAYEVENT:FALSE
SUMMARY:Craft Day @ the Library
DESCRIPTION:Make-it-take-it craft day
X-ALT-DESC;FMTTYPE=text/html:Make-it-take-it craft day
LOCATION:Frances Banta Waggoner Library 505 10th St. DeWitt\, IA
UID:e.1774.107
SEQUENCE:3
DTSTAMP:20260422T024416Z
URL:https://business.dewittiowa.org/events/details/craft-day-the-library-07-22-2014-107
END:VEVENT

END:VCALENDAR
