BEGIN:VCALENDAR
VERSION:2.0
PRODID:-//ChamberMaster//Event Calendar 2.0//EN
METHOD:PUBLISH
X-PUBLISHED-TTL:P3D
REFRESH-INTERVAL:P3D
CALSCALE:GREGORIAN
BEGIN:VEVENT
DTSTART:20141019T150000Z
DTEND:20141019T200000Z
X-MICROSOFT-CDO-ALLDAYEVENT:FALSE
SUMMARY:Craft Show
DESCRIPTION:Your holiday shopping starts here!\n\nDecorate your home for holidays!\n\nHandicap accessible\n\n\n\nSponsored by DeWitt American Legion Auxiliary
X-ALT-DESC;FMTTYPE=text/html:Your holiday shopping starts here!<br />\nDecorate your home for holidays!<br />\nHandicap accessible<br />\n<br />\nSponsored by DeWitt American&nbsp\;Legion Auxiliary
LOCATION:DeWitt Legion 704 9th St. DeWitt
UID:e.1774.212
SEQUENCE:3
DTSTAMP:20260421T220127Z
URL:https://business.dewittiowa.org/events/details/craft-show-10-19-2014-212
END:VEVENT

END:VCALENDAR
