BEGIN:VCALENDAR
VERSION:2.0
PRODID:-//ChamberMaster//Event Calendar 2.0//EN
METHOD:PUBLISH
X-PUBLISHED-TTL:P3D
REFRESH-INTERVAL:P3D
CALSCALE:GREGORIAN
BEGIN:VEVENT
DTSTART:20150410T150000Z
DTEND:20150410T230000Z
X-MICROSOFT-CDO-ALLDAYEVENT:FALSE
SUMMARY:DAC Inc. Job Fair
DESCRIPTION:Get paid to have fun and help people! If you want a rewarding career with a competitive wage\, generous benefits\, and flexible hours\, DAC\, Inc. is just the place for you. We are looking for dedicated people to provide day-to-day opportunities which support and guide achieving personal goals to individuals with disabilities. This can be anything from assisting with daily living skills\, such as cooking or cleaning\, to social interaction\, like going bowling or shopping. We have openings on all shifts in numerous cities in Iowa\; Full time or Part time\, you decide. No experience necessary. Can't make it to the Job Fair? No worries\, apply online at www.dacincorp.com
X-ALT-DESC;FMTTYPE=text/html:Get paid to have fun and help people! If you want a rewarding career with a competitive wage\, generous benefits\, and flexible hours\, DAC\, Inc. is just the place for you. We are looking for dedicated people to provide day-to-day opportunities which support and guide achieving personal goals to individuals with disabilities. This can be anything from assisting with daily living skills\, such as cooking or cleaning\, to social interaction\, like going bowling or shopping. We have openings on all shifts in numerous cities in Iowa\; Full time or Part time\, you decide. No experience necessary. Can&#39\;t make it to the Job Fair? No worries\, apply online at www.dacincorp.com
LOCATION:DAC Inc. DeWitt Iowa 108 East Industrial Street DeWitt\, Iowa 52742
UID:e.1774.344
SEQUENCE:3
DTSTAMP:20260421T110212Z
URL:https://business.dewittiowa.org/events/details/dac-inc-job-fair-04-10-2015-344
END:VEVENT

END:VCALENDAR
