BEGIN:VCALENDAR
VERSION:2.0
PRODID:-//ChamberMaster//Event Calendar 2.0//EN
METHOD:PUBLISH
X-PUBLISHED-TTL:P3D
REFRESH-INTERVAL:P3D
CALSCALE:GREGORIAN
BEGIN:VEVENT
DTSTART:20140711T150000Z
DTEND:20140711T230000Z
X-MICROSOFT-CDO-ALLDAYEVENT:FALSE
SUMMARY:DAC Inc. Job Fair
DESCRIPTION:DAC will be holding a Job Fair for all interested applicants and will be holding on the spot interviews on 7/11/14 from 10 am to 6 pm.
X-ALT-DESC;FMTTYPE=text/html:DAC will be holding a Job Fair for all interested applicants and will be holding on the spot interviews on 7/11/14 from 10 am to 6 pm.
LOCATION:108 E. Industrial St. De Witt\, IA 52742
UID:e.1774.100
SEQUENCE:3
DTSTAMP:20260422T010927Z
URL:https://business.dewittiowa.org/events/details/dac-inc-job-fair-07-11-2014-100
END:VEVENT

END:VCALENDAR
