BEGIN:VCALENDAR
VERSION:2.0
PRODID:-//ChamberMaster//Event Calendar 2.0//EN
METHOD:PUBLISH
X-PUBLISHED-TTL:P3D
REFRESH-INTERVAL:P3D
CALSCALE:GREGORIAN
BEGIN:VEVENT
DTSTART:20141121T160000Z
DTEND:20141122T000000Z
X-MICROSOFT-CDO-ALLDAYEVENT:FALSE
SUMMARY:DAC\, Inc. Job Fair
DESCRIPTION:DAC\, Inc. will be hosting another job fair in the De Witt area. Please come prepared for on site interviews.
X-ALT-DESC;FMTTYPE=text/html:DAC\, Inc. will be hosting another job fair in the De Witt area. Please come prepared for on site interviews.
LOCATION:108 E. Industrial St. De Witt\, IA. 52742
UID:e.1774.233
SEQUENCE:3
DTSTAMP:20260421T190236Z
URL:https://business.dewittiowa.org/events/details/dac-inc-job-fair-11-21-2014-233
END:VEVENT

END:VCALENDAR
