BEGIN:VCALENDAR
VERSION:2.0
PRODID:-//ChamberMaster//Event Calendar 2.0//EN
METHOD:PUBLISH
X-PUBLISHED-TTL:P3D
REFRESH-INTERVAL:P3D
CALSCALE:GREGORIAN
BEGIN:VEVENT
DTSTART:20170220T233000Z
DTEND:20170221T023000Z
X-MICROSOFT-CDO-ALLDAYEVENT:FALSE
SUMMARY:Daddy Daughter Date Night
DESCRIPTION:Buffet Dinner by: Hall of Fame Pizza & Wings at the DeWitt Community Center Salad\, Pizza\, Wings & Dessert Pizza Followed by a family movie at the DeWitt Opera House\n\n1 small pop & popcorn provided for each person\n\nDinner at 5:30 PM Movie starts at 6:45 PM
X-ALT-DESC;FMTTYPE=text/html:Buffet Dinner by: Hall of Fame Pizza &amp\; Wings at the DeWitt Community Center Salad\, Pizza\, Wings &amp\; Dessert Pizza Followed by a family movie at the DeWitt Opera House<br />\n1 small pop &amp\; popcorn provided for each person<br />\nDinner at 5:30 PM Movie starts at 6:45 PM
LOCATION:DeWitt Community Center - 512 10th Street DeWitt\, IA 52742 DeWitt Opera House - 712 6th Ave\, DeWitt\, IA 52742
UID:e.1774.1863
SEQUENCE:3
DTSTAMP:20260419T234534Z
URL:https://business.dewittiowa.org/events/details/daddy-daughter-date-night-1863
END:VEVENT

END:VCALENDAR
