BEGIN:VCALENDAR
VERSION:2.0
PRODID:-//ChamberMaster//Event Calendar 2.0//EN
METHOD:PUBLISH
X-PUBLISHED-TTL:P3D
REFRESH-INTERVAL:P3D
CALSCALE:GREGORIAN
BEGIN:VEVENT
DTSTART:20170910T190000Z
DTEND:20170910T210000Z
X-MICROSOFT-CDO-ALLDAYEVENT:FALSE
SUMMARY:Danika Holmes & Jeb Hart
DESCRIPTION:Relax on the patio with Danika Holmes & Jeb Hart\n\nFantastic duo!
X-ALT-DESC;FMTTYPE=text/html:Relax on the patio with Danika Holmes &amp\; Jeb Hart<br />\nFantastic duo!
LOCATION:TYCOGA Vineyard & Winery 2585 195th street Dewitt\, IA 52742
UID:e.1774.4261
SEQUENCE:3
DTSTAMP:20260419T120628Z
URL:https://business.dewittiowa.org/events/details/danika-holmes-jeb-hart-09-10-2017-4261
END:VEVENT

END:VCALENDAR
