BEGIN:VCALENDAR
VERSION:2.0
PRODID:-//ChamberMaster//Event Calendar 2.0//EN
METHOD:PUBLISH
X-PUBLISHED-TTL:P3D
REFRESH-INTERVAL:P3D
CALSCALE:GREGORIAN
BEGIN:VEVENT
DTSTART:20170702T190000Z
DTEND:20170702T210000Z
X-MICROSOFT-CDO-ALLDAYEVENT:FALSE
SUMMARY:Danika Holmes & Jeb Hart
DESCRIPTION:Danika Holmes & Jeb Hart return for Danika's birthday concert! Join us on the patio at 2pm.\n\nWood fired pizza cooking from 11-5pm. ALL beverages to be purchased from TYCOGA.
X-ALT-DESC;FMTTYPE=text/html:Danika Holmes &amp\; Jeb Hart return for Danika&#39\;s birthday concert! Join us on the patio at 2pm.<br />\nWood fired pizza cooking from 11-5pm. ALL beverages to be purchased from TYCOGA.
LOCATION:TYCOGA Vineyard & Winery 2585 195th Street DeWitt\, IA 52742
UID:e.1774.3156
SEQUENCE:3
DTSTAMP:20260419T164347Z
URL:https://business.dewittiowa.org/events/details/danika-holmes-jeb-hart-3156
END:VEVENT

END:VCALENDAR
