BEGIN:VCALENDAR
VERSION:2.0
PRODID:-//ChamberMaster//Event Calendar 2.0//EN
METHOD:PUBLISH
X-PUBLISHED-TTL:P3D
REFRESH-INTERVAL:P3D
CALSCALE:GREGORIAN
BEGIN:VEVENT
DTSTART:20150411T140000Z
DTEND:20150411T153000Z
X-MICROSOFT-CDO-ALLDAYEVENT:FALSE
SUMMARY:"Days for Girls"...an International Effort and a Local Chapter Helping Women Break the Cycle of Poverty in Poor Countries
DESCRIPTION:"Days for Girls"\n\n...an International NonProfit Effort and a Local Chapter helping women to break the cycle of poverty in poor developing countries.\n\n\n\nMary Clark\, PhD.\, RN-BC will speak on establishing a Local \n\n       "Days for Girls" (DFG) Chapter in the Quad City Area.                       \n\nBRING A FRIEND & LEARN about a very tangible way to help other women around the world\, especially in UGANDA.\n\n\n\nFor more information about DFG\, see www.daysforgirls.org.  \n\nFor more information about this event\, see www.crossroadsofdewitt.com
X-ALT-DESC;FMTTYPE=text/html:<div style="text-align: center\;"><span style="font-size:28px"><big><span style="font-family:tahoma"><span style="color:rgb(0\, 0\, 255)">&quot\;Days for Girls&quot\;</span></span><br />\n<span style="font-size:18px"><span style="color:rgb(0\, 0\, 255)">...an International NonProfit Effort and a Local Chapter helping women to break the cycle of poverty in poor developing countries.</span></span></big></span></div>\n\n<div style="text-align: center\;"><br />\n<span style="font-size:20px"><span style="font-size:18px">Mary Clark\, PhD.\, RN-BC will speak on establishing a Local </span></span></div>\n\n<div style="text-align: center\;"><span style="font-size:20px"><span style="font-size:18px">&nbsp\;&nbsp\;&nbsp\;&nbsp\;&nbsp\;&nbsp\; &quot\;Days for Girls&quot\; (DFG) Chapter in the Quad City Area. &nbsp\;&nbsp\;&nbsp\;&nbsp\;&nbsp\;&nbsp\;&nbsp\;&nbsp\;</span>&nbsp\;&nbsp\;&nbsp\;&nbsp\;&nbsp\;&nbsp\;&nbsp\;&nbsp\;&nbsp\;&nbsp\;&nbsp\;&nbsp\;&nbsp\; </span></div>\n\n<div style="text-align: center\;"><span style="font-size:18px"><span style="color:rgb(255\, 0\, 0)">BRING A FRIEND &amp\; LEARN </span>about a very tangible way to help other women around the world\, especially in UGANDA.<br />\n<br />\n<span style="color:rgb(0\, 0\, 255)">For more information about DFG\, see <a href="http://www.daysforgirls.org">www.daysforgirls.org</a>.&nbsp\;&nbsp\;</span></span><br />\n<span style="font-size:18px"><span style="color:rgb(0\, 0\, 255)">For more information about this event\, see <a href="http://www.crossroadsofdewitt.com">www.crossroadsofdewitt.com</a></span></span></div>\n\n<div style="text-align: center\;"><br />\n<br />\n&nbsp\;</div>\n
LOCATION:The Garden Caf at THE CROSSROADS Inspired Living Downtown DeWitt * 6th Avenue & 10th Street
UID:e.1774.348
SEQUENCE:3
DTSTAMP:20260421T110710Z
URL:https://business.dewittiowa.org/events/details/days-for-girls-an-international-effort-and-a-local-chapter-helping-women-break-the-cycle-of-poverty-in-poor-countries-04-11-2015-348
END:VEVENT

END:VCALENDAR
