BEGIN:VCALENDAR
VERSION:2.0
PRODID:-//ChamberMaster//Event Calendar 2.0//EN
METHOD:PUBLISH
X-PUBLISHED-TTL:P3D
REFRESH-INTERVAL:P3D
CALSCALE:GREGORIAN
BEGIN:VEVENT
DTSTART:20150716T133000Z
DTEND:20150716T143000Z
X-MICROSOFT-CDO-ALLDAYEVENT:FALSE
SUMMARY:DCDC 101
DESCRIPTION:New date! July 16\n\n \nWe encourage those interested in joining the DCDC\, new members\, new company representatives\, and existing members who would like to learn more about the DCDC services to join the DCDC staff for coffee as we share ideas and tools on how to make the most of your DCDC membership! This one hour\, informal gathering will include a review of member services and perks that will help your business or organization reach its fullest potential.
X-ALT-DESC;FMTTYPE=text/html:<div style="text-align: center\;"><strong><span style="font-size:14px\;">New date! July 16</span></strong><br />\n&nbsp\;</div>\nWe encourage those interested in joining the DCDC\, new members\, new company representatives\, and existing members who would like to learn more about the DCDC services to join the DCDC staff for coffee as we share ideas and tools on how to make the most of your DCDC membership! This one hour\, informal gathering will include a review of member services and perks that will help your business or organization reach its fullest potential.
LOCATION:DCDC Office 1010 6th Ave DeWitt IA 52742
UID:e.1774.190
SEQUENCE:3
DTSTAMP:20260421T061227Z
URL:https://business.dewittiowa.org/events/details/dcdc-101-07-16-2015-190
END:VEVENT

END:VCALENDAR
