BEGIN:VCALENDAR
VERSION:2.0
PRODID:-//ChamberMaster//Event Calendar 2.0//EN
METHOD:PUBLISH
X-PUBLISHED-TTL:P3D
REFRESH-INTERVAL:P3D
CALSCALE:GREGORIAN
BEGIN:VEVENT
DTSTART:20140911T133000Z
DTEND:20140911T143000Z
X-MICROSOFT-CDO-ALLDAYEVENT:FALSE
SUMMARY:DCDC 101
DESCRIPTION:We encourage those interested in joining the DCDC\, new members\, new company representatives\, and existing members who would like to learn more about the DCDC services to join the DCDC staff for coffee as we share ideas and tools on how to make the most of your DCDC membership! This one hour\, informal gathering will include a review of member services and perks that will help your business or organization reach its fullest potential.\n\n\n\nSession take away's!\n\n How to take advantage of DCDC networking opportunities to grow your business\n\n  How the DCDC can help you gain visibility and exposure among your customers\n\n  How you can benefit from the DCDC's economic development activities and growth in our region\n\n How you can get involved in community events and projects to keep DeWitt a great place to live\, work and play\n\n\n\nMust RSVP via online registration by September 9th!
X-ALT-DESC;FMTTYPE=text/html:<p><span style="font-size: 18px\;"><font face="Adobe Caslon Pro"><font face="Adobe Caslon Pro">We encourage those interested in joining the DCDC\, new members\, new company representatives\, and existing members who would like to learn more about the DCDC services to join the DCDC staff for coffee as we share ideas and tools on how to make the most of your DCDC membership! This one hour\, informal gathering will include a review of member services and perks that will help your business or organization reach its fullest potential.</font></font></span><br />\n<br />\n<b><font face="Adobe Caslon Pro" size="5"><font face="Adobe Caslon Pro" size="5">Session take away&#39\;s!</font></font></b></p>\n\n<p><font face="Adobe Caslon Pro" size="5"><font face="Adobe Caslon Pro" size="5">&bull\;</font></font><font face="Adobe Caslon Pro" size="4"><font face="Adobe Caslon Pro" size="4">How to take advantage of DCDC networking opportunities to grow your business</font></font><br />\n<font face="Adobe Caslon Pro" size="4"><font face="Adobe Caslon Pro" size="4">&bull\; How the DCDC can help you gain visibility and exposure among your customers</font></font><br />\n<font face="Adobe Caslon Pro" size="5"><font face="Adobe Caslon Pro" size="5">&bull\; </font></font><font face="Adobe Caslon Pro" size="4"><font face="Adobe Caslon Pro" size="4">How you can benefit from the DCDC&rsquo\;s economic development activities and growth in our region</font></font></p>\n\n<p><font face="Adobe Caslon Pro" size="5"><font face="Adobe Caslon Pro" size="5">&bull\;</font></font><font face="Adobe Caslon Pro" size="4"><font face="Adobe Caslon Pro" size="4">How you can get involved in community events and projects to keep DeWitt a great place to live\, work and play<br />\n<br />\n<strong>Must RSVP via online registration by September 9th!</strong></font></font><br />\n&nbsp\;</p>\n
LOCATION:DCDC Office 1010 6th Ave DeWitt IA 52742
UID:e.1774.119
SEQUENCE:3
DTSTAMP:20260421T220547Z
URL:https://business.dewittiowa.org/events/details/dcdc-101-09-11-2014-119
END:VEVENT

END:VCALENDAR
