BEGIN:VCALENDAR
VERSION:2.0
PRODID:-//ChamberMaster//Event Calendar 2.0//EN
METHOD:PUBLISH
X-PUBLISHED-TTL:P3D
REFRESH-INTERVAL:P3D
CALSCALE:GREGORIAN
BEGIN:VEVENT
DTSTART;VALUE=DATE:20140617
DTEND;VALUE=DATE:20140618
TRANSP:TRANSPARENT
X-MICROSOFT-CDO-ALLDAYEVENT:TRUE
SUMMARY:DEFC "Weird Animals" Vacation Bible School
DESCRIPTION:DeWitt Evangelical Free Church\n\n"Weird Animals" Vacation Bible School\n\nFor ages 4 - 6th grade\n\n(as of the 2013 - 2014 school year)
X-ALT-DESC;FMTTYPE=text/html:DeWitt Evangelical Free Church<br />\n&quot\;Weird Animals&quot\; Vacation Bible School<br />\nFor ages 4 - 6th&nbsp\;grade<br />\n(as of the 2013 - 2014 school year)
LOCATION:DeWitt Evangelical Free Church 1921 Elmwood Rd. DeWitt\, IA Contact Tammy at 659-9859 ext. 1 to pre-register or register at the door!
UID:e.1774.50
SEQUENCE:3
DTSTAMP:20260422T030018Z
URL:https://business.dewittiowa.org/events/details/defc-weird-animals-vacation-bible-school-06-17-2014-50
END:VEVENT

END:VCALENDAR
