BEGIN:VCALENDAR
VERSION:2.0
PRODID:-//ChamberMaster//Event Calendar 2.0//EN
METHOD:PUBLISH
X-PUBLISHED-TTL:P3D
REFRESH-INTERVAL:P3D
CALSCALE:GREGORIAN
BEGIN:VEVENT
DTSTART:20150411T000000Z
DTEND:20150411T020000Z
X-MICROSOFT-CDO-ALLDAYEVENT:FALSE
SUMMARY:Des Moines Metro Opera - Cinderella
DESCRIPTION:Des Moines Metro Opera-Cinderella Comedic Opera performed in English. Rossini's version of the classic-fairy tale Cinderella is a vocal and comedic romp! A wise magician takes the place of the fairy godmother and Don Magnifico\, the girl's father\, rants and raves instead of a wicked stepmother\, but the nasty stepsisters\, Prince Charming and a glass slipper prove\, beyond all question\, that this is the fairy tale we all know and love. And when it's combined with hilarious characters and situations and set to some of Rossini's finest music\, it becomes comic opera at its frenzied and most exhilarating best!
X-ALT-DESC;FMTTYPE=text/html:Des Moines Metro Opera-Cinderella Comedic Opera performed in English. Rossini&#39\;s version of the classic-fairy tale Cinderella is a vocal and comedic romp! A wise magician takes the place of the fairy godmother and Don Magnifico\, the girl&#39\;s father\, rants and raves instead of a wicked stepmother\, but the nasty stepsisters\, Prince Charming and a glass slipper prove\, beyond all question\, that this is the fairy tale we all know and love. And when it&#39\;s combined with hilarious characters and situations and set to some of Rossini&#39\;s finest music\, it becomes comic opera at its frenzied and most exhilarating best!
LOCATION:Central Performing Arts Center 519 E. 11th Street DeWitt\, Iowa 52742
UID:e.1774.133
SEQUENCE:3
DTSTAMP:20260421T123945Z
URL:https://business.dewittiowa.org/events/details/des-moines-metro-opera-cinderella-04-10-2015-133
END:VEVENT

END:VCALENDAR
