BEGIN:VCALENDAR
VERSION:2.0
PRODID:-//ChamberMaster//Event Calendar 2.0//EN
METHOD:PUBLISH
X-PUBLISHED-TTL:P3D
REFRESH-INTERVAL:P3D
CALSCALE:GREGORIAN
BEGIN:VEVENT
DTSTART:20140503T140000Z
DTEND:20140503T170000Z
X-MICROSOFT-CDO-ALLDAYEVENT:FALSE
SUMMARY:DeWitt Bank & Trust Community SHRED DAY!
DESCRIPTION:Community Shred Day will be in our parking lot.\n\nCommunity members will be allowed to drive up and drop off up to three bags of paperwork to shred FREE OF CHARGE.
X-ALT-DESC;FMTTYPE=text/html:Community Shred Day will be in our parking lot.<br />\nCommunity members will be allowed to drive up and drop off up to three&nbsp\;bags of paperwork to shred FREE OF CHARGE.
LOCATION:DeWitt Bank & Trust Co. 815 6th Ave. DeWitt\, Iowa
UID:e.1774.34
SEQUENCE:3
DTSTAMP:20260422T042132Z
URL:https://business.dewittiowa.org/events/details/dewitt-bank-trust-community-shred-day-05-03-2014-34
END:VEVENT

END:VCALENDAR
