BEGIN:VCALENDAR
VERSION:2.0
PRODID:-//ChamberMaster//Event Calendar 2.0//EN
METHOD:PUBLISH
X-PUBLISHED-TTL:P3D
REFRESH-INTERVAL:P3D
CALSCALE:GREGORIAN
BEGIN:VEVENT
DTSTART:20170311T150000Z
DTEND:20170311T213000Z
X-MICROSOFT-CDO-ALLDAYEVENT:FALSE
SUMMARY:DeWitt Central FFA Alumni Farm Toy Show
DESCRIPTION:Farm Toy Show formerly the Calamus Lions Toy Show. Lunch will be served all day.
X-ALT-DESC;FMTTYPE=text/html:Farm Toy Show formerly the Calamus Lions Toy Show. Lunch will be served all day.
LOCATION:Central DeWitt High School. 331 E. 8th St. DeWitt\, IA
UID:e.1774.1900
SEQUENCE:3
DTSTAMP:20260419T234116Z
URL:https://business.dewittiowa.org/events/details/dewitt-central-ffa-alumni-farm-toy-show-1900
END:VEVENT

END:VCALENDAR
