BEGIN:VCALENDAR
VERSION:2.0
PRODID:-//ChamberMaster//Event Calendar 2.0//EN
METHOD:PUBLISH
X-PUBLISHED-TTL:P3D
REFRESH-INTERVAL:P3D
CALSCALE:GREGORIAN
BEGIN:VEVENT
DTSTART:20161106T000000Z
DTEND:20161106T030000Z
X-MICROSOFT-CDO-ALLDAYEVENT:FALSE
SUMMARY:DeWitt Central FFA Trivia Night
DESCRIPTION:Ten rounds of trivia including mulligans.\n\nDinner buffet at 6:00 p.m. ($7) Includes: meat\, potatoes\, veggies and dessert.\n\nTo sign up: please visit our website and fill out information.\n\n50/50 and Raffle Drawings on site.\n\nRSVP by November 3rd!\n\nEntries will also be accepted at the door. Pay upon arrival.
X-ALT-DESC;FMTTYPE=text/html:Ten rounds of trivia including mulligans.<br />\nDinner buffet at 6:00 p.m. ($7) Includes: meat\, potatoes\, veggies and dessert.<br />\nTo sign up: please visit our website and fill out information.<br />\n50/50 and Raffle Drawings on site.<br />\nRSVP by November 3rd!<br />\nEntries will also be accepted at the door. Pay upon arrival.
LOCATION:Buzzy's Tap Welton\, IA
UID:e.1774.1622
SEQUENCE:3
DTSTAMP:20260420T042910Z
URL:https://business.dewittiowa.org/events/details/dewitt-central-ffa-trivia-night-1622
END:VEVENT

END:VCALENDAR
