BEGIN:VCALENDAR
VERSION:2.0
PRODID:-//ChamberMaster//Event Calendar 2.0//EN
METHOD:PUBLISH
X-PUBLISHED-TTL:P3D
REFRESH-INTERVAL:P3D
CALSCALE:GREGORIAN
BEGIN:VEVENT
DTSTART:20150829T223000Z
DTEND:20150830T013000Z
X-MICROSOFT-CDO-ALLDAYEVENT:FALSE
SUMMARY:DeWitt Community Hospital Foundation Dinner
DESCRIPTION:Support the DeWitt Community Hospital Foundation by joining us for heavy hors d'oeuvres and an outstanding steak and shrimp dinner immediately following the conclusion of the 17th Annual Swinging for Healthcare Charity Golf Outing. Proceeds support the purchase of a new 64 slice CT scanner at GMC-DeWitt.
X-ALT-DESC;FMTTYPE=text/html:Support the DeWitt Community Hospital Foundation by joining us for heavy hors d&#39\;oeuvres and an outstanding steak and shrimp dinner immediately following the conclusion of the 17th Annual Swinging for Healthcare Charity Golf Outing. Proceeds support the purchase of a new 64 slice CT scanner at GMC-DeWitt.
LOCATION:Springbrook Country Club\, DeWitt
UID:e.1774.917
SEQUENCE:3
DTSTAMP:20260421T043909Z
URL:https://business.dewittiowa.org/events/details/dewitt-community-hospital-foundation-dinner-08-29-2015-917
END:VEVENT

END:VCALENDAR
