BEGIN:VCALENDAR
VERSION:2.0
PRODID:-//ChamberMaster//Event Calendar 2.0//EN
METHOD:PUBLISH
X-PUBLISHED-TTL:P3D
REFRESH-INTERVAL:P3D
CALSCALE:GREGORIAN
BEGIN:VEVENT
DTSTART:20150829T160000Z
DTEND:20150830T010000Z
X-MICROSOFT-CDO-ALLDAYEVENT:FALSE
SUMMARY:DeWitt Community Hospital Foundation Golf Outing
DESCRIPTION:Golf\, anyone? This four person Best Ball Outing includes 18 holes of golf\, golf cart\, heavy hors d'oeuvres\, steak and shrimp dinner and more. Proceeds support the purchase of a 64 slice CT scanner at GMC-DeWitt. Not a golfer but want to support the cause? Purchase a $5 raffle ticket. Prizes include: A Fitbit Charge\, Family Fun Pass for 4 to Niabi Zoo (Coal Valley/Moline)\, Family Fun Pass for 4 to AirFx Trampoline Park (Cedar Rapids\, IA)\, two tickets to a fall 2015 home Iowa football game\, $50 Gift Certificate to Dick's Sporting Goods\, $50 of DeWitt Chamber Bucks\, $50 Gift Certificate to Springbrook Country Club\, plus many additional prizes!
X-ALT-DESC;FMTTYPE=text/html:Golf\, anyone? This four person Best Ball Outing includes 18 holes of golf\, golf cart\, heavy hors d&#39\;oeuvres\, steak and shrimp dinner and more. Proceeds support the purchase of a 64 slice CT scanner at GMC-DeWitt. Not a golfer but want to support the cause? Purchase a $5 raffle ticket. Prizes include: A Fitbit Charge\, Family Fun Pass for 4 to Niabi Zoo (Coal Valley/Moline)\, Family Fun Pass for 4 to AirFx Trampoline Park (Cedar Rapids\, IA)\, two tickets to a fall 2015 home Iowa football game\, $50 Gift Certificate to Dick&#39\;s Sporting Goods\, $50 of DeWitt Chamber Bucks\, $50 Gift Certificate to Springbrook Country Club\, plus many additional prizes!
LOCATION:Springbrook Country Club\, DeWitt.
UID:e.1774.916
SEQUENCE:3
DTSTAMP:20260421T061524Z
URL:https://business.dewittiowa.org/events/details/dewitt-community-hospital-foundation-golf-outing-08-29-2015-916
END:VEVENT

END:VCALENDAR
