BEGIN:VCALENDAR
VERSION:2.0
PRODID:-//ChamberMaster//Event Calendar 2.0//EN
METHOD:PUBLISH
X-PUBLISHED-TTL:P3D
REFRESH-INTERVAL:P3D
CALSCALE:GREGORIAN
BEGIN:VEVENT
DTSTART:20150328T140000Z
DTEND:20150328T190000Z
X-MICROSOFT-CDO-ALLDAYEVENT:FALSE
SUMMARY:DeWitt Craft & Vendor Show
DESCRIPTION:DeWitt Craft & Vendor Show: featuring a variety of specialty name crafters and vendors!!! *Free Admission *Cash and Carry items available *Breakfast and lunch available with proceeds going to Jackson County Relay for Life
X-ALT-DESC;FMTTYPE=text/html:DeWitt Craft &amp\; Vendor Show: featuring a variety of specialty name crafters and vendors!!! *Free Admission *Cash and Carry items available *Breakfast and lunch available with proceeds going to Jackson County Relay for Life
LOCATION:DeWitt Community Center 512 10th Street DeWitt\, IA
UID:e.1774.322
SEQUENCE:3
DTSTAMP:20260421T142301Z
URL:https://business.dewittiowa.org/events/details/dewitt-craft-vendor-show-03-28-2015-322
END:VEVENT

END:VCALENDAR
