BEGIN:VCALENDAR
VERSION:2.0
PRODID:-//ChamberMaster//Event Calendar 2.0//EN
METHOD:PUBLISH
X-PUBLISHED-TTL:P3D
REFRESH-INTERVAL:P3D
CALSCALE:GREGORIAN
BEGIN:VEVENT
DTSTART:20170422T140000Z
DTEND:20170422T190000Z
X-MICROSOFT-CDO-ALLDAYEVENT:FALSE
SUMMARY:DeWitt Craft & Vendor Show
DESCRIPTION:DeWitt Spring Craft & Vendor Show!\n\nFeaturing a variety of specialty name crafters & vendors.\n\nBreakfast and lunch available with proceeds going to Jackson County Relay for Life! Don't Miss Out!!!!
X-ALT-DESC;FMTTYPE=text/html:DeWitt Spring Craft &amp\; Vendor Show!<br />\nFeaturing a variety of specialty name crafters &amp\; vendors.<br />\nBreakfast and lunch available with proceeds going to Jackson County Relay for Life! Don&#39\;t Miss Out!!!!
LOCATION:DeWitt Community Center 512 10th St DeWitt\, IA
UID:e.1774.1908
SEQUENCE:3
DTSTAMP:20260419T201431Z
URL:https://business.dewittiowa.org/events/details/dewitt-craft-vendor-show-04-22-2017-1908
END:VEVENT

END:VCALENDAR
