BEGIN:VCALENDAR
VERSION:2.0
PRODID:-//ChamberMaster//Event Calendar 2.0//EN
METHOD:PUBLISH
X-PUBLISHED-TTL:P3D
REFRESH-INTERVAL:P3D
CALSCALE:GREGORIAN
BEGIN:VEVENT
DTSTART:20160423T140000Z
DTEND:20160423T190000Z
X-MICROSOFT-CDO-ALLDAYEVENT:FALSE
SUMMARY:DeWitt Craft & Vendor Show
DESCRIPTION:Craft & Vendor Show featuring a variety of specialty name crafters & vendors! *Lunch & breakfast available: Proceeds go to Jackson County Relay for Life *Don't miss out!!!!!
X-ALT-DESC;FMTTYPE=text/html:Craft &amp\; Vendor Show featuring a variety of specialty name crafters &amp\; vendors! *Lunch &amp\; breakfast available: Proceeds go to Jackson County Relay for Life *Don&#39\;t miss out!!!!!
LOCATION:DeWitt Community Center 512 10th Street DeWitt\, IA
UID:e.1774.1277
SEQUENCE:3
DTSTAMP:20260420T152616Z
URL:https://business.dewittiowa.org/events/details/dewitt-craft-vendor-show-04-23-2016-1277
END:VEVENT

END:VCALENDAR
