BEGIN:VCALENDAR
VERSION:2.0
PRODID:-//ChamberMaster//Event Calendar 2.0//EN
METHOD:PUBLISH
X-PUBLISHED-TTL:P3D
REFRESH-INTERVAL:P3D
CALSCALE:GREGORIAN
BEGIN:VEVENT
DTSTART:20151003T140000Z
DTEND:20151003T190000Z
X-MICROSOFT-CDO-ALLDAYEVENT:FALSE
SUMMARY:DeWitt Craft & Vendor Show
DESCRIPTION:Craft and Vendor show! *Featuring a variety of specialty name vendors and crafters! *Free admission. *Cash and carry items. *Breakfast and lunch available with proceeds going to Jackson County Relay for Life. Don't miss out!!!!!!!!!
X-ALT-DESC;FMTTYPE=text/html:Craft and Vendor show! *Featuring a variety of specialty name vendors and crafters! *Free admission. *Cash and carry items. *Breakfast and lunch available with proceeds going to Jackson County Relay for Life. Don&#39\;t miss out!!!!!!!!!
LOCATION:DeWitt Community Center 512 10th St DeWitt\, IA
UID:e.1774.1017
SEQUENCE:3
DTSTAMP:20260421T012538Z
URL:https://business.dewittiowa.org/events/details/dewitt-craft-vendor-show-10-03-2015-1017
END:VEVENT

END:VCALENDAR
