BEGIN:VCALENDAR
VERSION:2.0
PRODID:-//ChamberMaster//Event Calendar 2.0//EN
METHOD:PUBLISH
X-PUBLISHED-TTL:P3D
REFRESH-INTERVAL:P3D
CALSCALE:GREGORIAN
BEGIN:VEVENT
DTSTART:20161001T140000Z
DTEND:20161001T190000Z
X-MICROSOFT-CDO-ALLDAYEVENT:FALSE
SUMMARY:DeWitt Craft & Vendor Show
DESCRIPTION:The annual Fall Craft & Vendor Show features a variety of specialty named crafters and Vendors! Admission is free and there will be many cash and carry items on hand. Come stop by while you are out and about for City Wide Garage Sales! *Breakfast and Lunch items available for purchase!
X-ALT-DESC;FMTTYPE=text/html:The annual Fall Craft &amp\; Vendor Show features a variety of specialty named crafters and Vendors! Admission is free and there will be many cash and carry items on hand. Come stop by while you are out and about for City Wide Garage Sales! *Breakfast and Lunch items available for purchase!
LOCATION:DeWitt Community Center 512 10th Street DeWitt\, IA
UID:e.1774.1587
SEQUENCE:3
DTSTAMP:20260420T073652Z
URL:https://business.dewittiowa.org/events/details/dewitt-craft-vendor-show-1587
END:VEVENT

END:VCALENDAR
