BEGIN:VCALENDAR
VERSION:2.0
PRODID:-//ChamberMaster//Event Calendar 2.0//EN
METHOD:PUBLISH
X-PUBLISHED-TTL:P3D
REFRESH-INTERVAL:P3D
CALSCALE:GREGORIAN
BEGIN:VEVENT
DTSTART;VALUE=DATE:20160806
DTEND;VALUE=DATE:20160807
TRANSP:TRANSPARENT
X-MICROSOFT-CDO-ALLDAYEVENT:TRUE
SUMMARY:DeWitt Crossroads Triathlon
DESCRIPTION:The DeWitt Crossroads Triathlon is a sprint distance triathlon\, USA sanctioned event. REGISTER NOW: event capped at 200 participants Register online at www.crossroadstriathlon.com Swim 500 yds. Bike 15 miles Run 5k "You will never know your limits unless you push yourself to them."
X-ALT-DESC;FMTTYPE=text/html:The DeWitt Crossroads Triathlon is a sprint distance triathlon\, USA sanctioned event. REGISTER NOW: event capped at 200 participants Register online at <a href="http://www.crossroadstriathlon.com">www.crossroadstriathlon.com</a> Swim 500 yds. Bike 15 miles Run 5k &quot\;You will never know your limits unless you push yourself to them.&quot\;
LOCATION:DeWitt\, IA
UID:e.1774.1252
SEQUENCE:3
DTSTAMP:20260420T092318Z
URL:https://business.dewittiowa.org/events/details/dewitt-crossroads-triathlon-08-06-2016-1252
END:VEVENT

END:VCALENDAR
