BEGIN:VCALENDAR
VERSION:2.0
PRODID:-//ChamberMaster//Event Calendar 2.0//EN
METHOD:PUBLISH
X-PUBLISHED-TTL:P3D
REFRESH-INTERVAL:P3D
CALSCALE:GREGORIAN
BEGIN:VEVENT
DTSTART:20170805T130000Z
DTEND:20170805T163000Z
X-MICROSOFT-CDO-ALLDAYEVENT:FALSE
SUMMARY:DeWitt Crossroads Triathlon
DESCRIPTION:2017 DeWitt Crossroads Triathlon \n\nSaturday\, August 5\, 2017\n\n8:00 a.m.\n\nONLINE REGISTRATION ONLY\n\nRace Solo or as a Team!\n\n\n\nRegistered by June 1 - $45 Individual/$90 Team\n\nRegistered after June 1 - $55 Individual/$100 Team\n\nAn additional $15 USAT fee will be incurred by all non-members\n\nNon-refundable\n\n\n\n500 yard swim | 15 mile bike | 5k (3.1 mile) run\n\n\n\nwww.crossroadstriathlon.com
X-ALT-DESC;FMTTYPE=text/html:<p>2017 DeWitt Crossroads Triathlon&nbsp\;<br />\nSaturday\, August 5\, 2017<br />\n8:00 a.m.</p>\n\n<p><a href="https://register.chronotrack.com/r/25784" style="color: rgb(78\, 89\, 120)\;" target=""><strong>ONLINE REGISTRATION ONLY</strong></a><br />\nRace Solo or as a Team!<br />\n<br />\nRegistered by June 1 - $45 Individual/$90 Team<br />\nRegistered after June 1 - $55 Individual/$100 Team<br />\nAn additional $15 USAT fee will be incurred by all non-members<br />\nNon-refundable<br />\n<br />\n500 yard swim | 15 mile bike | 5k (3.1 mile) run<br />\n<br />\nwww.crossroadstriathlon.com&nbsp\;</p>\n
LOCATION:SWIM: Time Trial Start begins at 8:00 a.m. sharp. Enter the water in pairs. The course is an out-and-back triangle\, 500 yard swim in Lake Killdeer. Boats and safety personnel will be on (and around) the lake during the swim. BIKE: Our challenging 15-mile bike course will take you West on Old Highway 30\, past Central DeWitt High School and then North on Humeston Road/290th Avenue\, roughly 4 miles\, and turn around. Riders will then turn left on Old Highway 30 and travel back to the Central DeWitt High School (T2 - Transition#2). You must walk your bike while in the transition area. RUN: The 5k (3.1 miles) run is flat and fast. Participants will leave Central DeWitt High School and skirt the outer residential area of DeWitt. Your run number (bib) MUST be worn on the front during the run.
UID:e.1774.3133
SEQUENCE:3
DTSTAMP:20260419T150421Z
URL:https://business.dewittiowa.org/events/details/dewitt-crossroads-triathlon-3133
END:VEVENT

END:VCALENDAR
