BEGIN:VCALENDAR
VERSION:2.0
PRODID:-//ChamberMaster//Event Calendar 2.0//EN
METHOD:PUBLISH
X-PUBLISHED-TTL:P3D
REFRESH-INTERVAL:P3D
CALSCALE:GREGORIAN
BEGIN:VEVENT
DTSTART:20150416T120000Z
DTEND:20150417T000000Z
X-MICROSOFT-CDO-ALLDAYEVENT:FALSE
SUMMARY:DeWitt Eyecare Clinic - 2015 Frame Show
DESCRIPTION:"ARE YOUR OLD GLASSES DRIVING YOU NUTS?"\n\n\n\nIf so\, then don't miss DeWitt Eyecare Clinic's 2015 Frame Show!\n\n\n\nCome and select from our selection of over 1000 frames!  Our friendly and courteous staff will be available to help you select the ideal lenses and frames for your features and hobbies!\n\n\n\nWe also are offering a FREE FRAME (up to $150.00 value) with the purchase of lenses!  See one of our opticians for more details!
X-ALT-DESC;FMTTYPE=text/html:&quot\;ARE YOUR OLD GLASSES DRIVING YOU NUTS?&quot\;<br />\n<br />\nIf so\, then don&#39\;t miss DeWitt Eyecare Clinic&#39\;s 2015 Frame Show!<br />\n<br />\nCome and select from our selection of over 1000 frames!&nbsp\; Our friendly and courteous staff will be available to help you select the ideal lenses and frames for your features and hobbies!<br />\n<br />\nWe also are offering a FREE FRAME (up to $150.00 value) with the purchase of lenses!&nbsp\; See one of our opticians for more details!
LOCATION:DeWitt Eyecare Clinic
UID:e.1774.353
SEQUENCE:3
DTSTAMP:20260421T110221Z
URL:https://business.dewittiowa.org/events/details/dewitt-eyecare-clinic-2015-frame-show-04-16-2015-353
END:VEVENT

END:VCALENDAR
