BEGIN:VCALENDAR
VERSION:2.0
PRODID:-//ChamberMaster//Event Calendar 2.0//EN
METHOD:PUBLISH
X-PUBLISHED-TTL:P3D
REFRESH-INTERVAL:P3D
CALSCALE:GREGORIAN
BEGIN:VEVENT
DTSTART:20150723T203000Z
DTEND:20150723T233000Z
X-MICROSOFT-CDO-ALLDAYEVENT:FALSE
SUMMARY:DeWitt Farmer's Market
DESCRIPTION:*** Potluck at 6:30 p.m. For anyone with an interest in the DeWitt Farmer's Market to discuss this year's market season.\n\n\n\nDeWitt Farmer's Market\; produce\, eggs\, baked goods\, meat\, crafts available\, used book exchange.\n\nCheck us out on our facebook for weekly updates: https://www.facebook.com/DeWittFarmersMarket
X-ALT-DESC;FMTTYPE=text/html:<br />\n<strong>*** Potluck at 6:30 p.m. For anyone&nbsp\;with an interest in the DeWitt Farmer&#39\;s Market to discuss this year&#39\;s market season.<br />\n<br />\nDeWitt Farmer&#39\;s Market</strong>\; produce\, eggs\, baked goods\, meat\, crafts available\, used book exchange.<br />\nCheck us out on our facebook for weekly updates: <a href="https://www.facebook.com/DeWittFarmersMarket">https://www.facebook.com/DeWittFarmersMarket</a><br />\n&nbsp\;
LOCATION:Lincoln Park: Located at 6th Avenue and 11th Street in DeWitt (east side parking)
UID:e.1774.702
SEQUENCE:3
DTSTAMP:20260421T075551Z
URL:https://business.dewittiowa.org/events/details/dewitt-farmer-s-market-07-23-2015-702
END:VEVENT

END:VCALENDAR
