BEGIN:VCALENDAR
VERSION:2.0
PRODID:-//ChamberMaster//Event Calendar 2.0//EN
METHOD:PUBLISH
X-PUBLISHED-TTL:P3D
REFRESH-INTERVAL:P3D
CALSCALE:GREGORIAN
BEGIN:VEVENT
DTSTART:20160915T203000Z
DTEND:20160915T233000Z
X-MICROSOFT-CDO-ALLDAYEVENT:FALSE
SUMMARY:DeWitt Farmer's Market
DESCRIPTION:DeWitt Farmer's Market\; produce\, eggs\, baked goods\, meat\, wine\, crepes.\n\nCheck us out onFacebook for weekly updates: https://www.facebook.com/DeWittFarmersMarket
X-ALT-DESC;FMTTYPE=text/html:DeWitt Farmer&#39\;s Market\; produce\, eggs\, baked goods\, meat\, wine\, crepes.<br />\nCheck us out onFacebook for weekly updates: <a href="https://www.facebook.com/DeWittFarmersMarket/?fref=nf">https://www.facebook.com/DeWittFarmersMarket</a>
LOCATION:Lincoln Park: Located at 6th Avenue and 11th Street in DeWitt (east side parking)
UID:e.1774.1436
SEQUENCE:3
DTSTAMP:20260420T073918Z
URL:https://business.dewittiowa.org/events/details/dewitt-farmer-s-market-09-15-2016-1436
END:VEVENT

END:VCALENDAR
