BEGIN:VCALENDAR
VERSION:2.0
PRODID:-//ChamberMaster//Event Calendar 2.0//EN
METHOD:PUBLISH
X-PUBLISHED-TTL:P3D
REFRESH-INTERVAL:P3D
CALSCALE:GREGORIAN
BEGIN:VEVENT
DTSTART:20151008T203000Z
DTEND:20151008T233000Z
X-MICROSOFT-CDO-ALLDAYEVENT:FALSE
SUMMARY:DeWitt Farmer's Market
DESCRIPTION:DeWitt Farmer's Market\; produce\, eggs\, baked goods\, meat\, crafts available\, used book exchange.\n\nCheck us out on our facebook for weekly updates: https://www.facebook.com/DeWittFarmersMarket
X-ALT-DESC;FMTTYPE=text/html:<strong>DeWitt Farmer&#39\;s Market</strong>\; produce\, eggs\, baked goods\, meat\, crafts available\, used book exchange.<br />\nCheck us out on our facebook for weekly updates: <a href="https://www.facebook.com/DeWittFarmersMarket">https://www.facebook.com/DeWittFarmersMarket</a><br />\n&nbsp\;
LOCATION:Lincoln Park: Located at 6th Avenue and 11th Street in DeWitt (east side parking)
UID:e.1774.1089
SEQUENCE:3
DTSTAMP:20260421T025334Z
URL:https://business.dewittiowa.org/events/details/dewitt-farmer-s-market-10-08-2015-1089
END:VEVENT

END:VCALENDAR
