BEGIN:VCALENDAR
VERSION:2.0
PRODID:-//ChamberMaster//Event Calendar 2.0//EN
METHOD:PUBLISH
X-PUBLISHED-TTL:P3D
REFRESH-INTERVAL:P3D
CALSCALE:GREGORIAN
BEGIN:VEVENT
DTSTART:20161027T203000Z
DTEND:20161027T223000Z
X-MICROSOFT-CDO-ALLDAYEVENT:FALSE
SUMMARY:DeWitt Farmer's Market
DESCRIPTION:DeWitt Farmer's Market\; produce\, eggs\, baked goods\, meat\, wine\, crepes.\n\nCheck us out on Facebook for updates: https://www.facebook.com/DeWittFarmersMarket\n\n \n\nOctober 13\, 5:30 pm - End of year meeting to discuss this year's Farmer's Market and discuss plans for next year.  All are invited.
X-ALT-DESC;FMTTYPE=text/html:DeWitt Farmer&#39\;s Market\; produce\, eggs\, baked goods\, meat\, wine\, crepes.<br />\nCheck us out on&nbsp\;Facebook for updates: <a href="https://www.facebook.com/DeWittFarmersMarket/?fref=nf">https://www.facebook.com/DeWittFarmersMarket<br />\n&#8203\;</a><br />\n<strong>October 13\, 5:30 pm - End of year meeting to discuss this year&#39\;s Farmer&#39\;s Market and discuss plans for next year. &nbsp\;All are invited.</strong>
LOCATION:Lincoln Park: Located at 6th Avenue and 11th Street in DeWitt (east side parking)
UID:e.1774.1646
SEQUENCE:3
DTSTAMP:20260420T061145Z
URL:https://business.dewittiowa.org/events/details/dewitt-farmer-s-market-10-27-2016-1646
END:VEVENT

END:VCALENDAR
