BEGIN:VCALENDAR
VERSION:2.0
PRODID:-//ChamberMaster//Event Calendar 2.0//EN
METHOD:PUBLISH
X-PUBLISHED-TTL:P3D
REFRESH-INTERVAL:P3D
CALSCALE:GREGORIAN
BEGIN:VEVENT
DTSTART:20170505T000000Z
DTEND:20170505T013000Z
X-MICROSOFT-CDO-ALLDAYEVENT:FALSE
SUMMARY:DeWitt Farmers Market Organizational Meeting
DESCRIPTION:DeWitt Farmers Market Organizational Meeting at the Frances Banta Waggoner  Community Library. For prospective vendors and anyone interested in the DeWitt Farmers Market. Anticipated market hours on Thursdays 3:30 to 6:30 pm May/June through October at the east side of Lincoln Park.
X-ALT-DESC;FMTTYPE=text/html:DeWitt Farmers Market Organizational Meeting at the Frances Banta Waggoner&nbsp\; Community Library. For prospective vendors and anyone interested in the DeWitt Farmers Market. Anticipated market hours on Thursdays 3:30 to 6:30 pm May/June through October at the east side of Lincoln Park.
LOCATION:Frances Banta Waggoner Community Library 505 10th St. DeWitt\, IA
UID:e.1774.2972
SEQUENCE:3
DTSTAMP:20260419T202553Z
URL:https://business.dewittiowa.org/events/details/dewitt-farmers-market-organizational-meeting-2972
END:VEVENT

END:VCALENDAR
