BEGIN:VCALENDAR
VERSION:2.0
PRODID:-//ChamberMaster//Event Calendar 2.0//EN
METHOD:PUBLISH
X-PUBLISHED-TTL:P3D
REFRESH-INTERVAL:P3D
CALSCALE:GREGORIAN
BEGIN:VEVENT
DTSTART:20150301T000000Z
DTEND:20150301T043000Z
X-MICROSOFT-CDO-ALLDAYEVENT:FALSE
SUMMARY:DeWitt Fire Department Euchre Tournament fundraiser
DESCRIPTION:Registration begins at 6pm\; Card play begins at 7pm. Players can bring their own beverages and snacks. Prizes will be awarded for play. A 50/50 drawing will be held as well as raffle prizes and a silent auction!
X-ALT-DESC;FMTTYPE=text/html:Registration begins at 6pm\; Card play begins at 7pm. Players can bring their own beverages and snacks. Prizes will be awarded for play. A 50/50 drawing will be held as well as raffle prizes and a silent auction!
LOCATION:Clinton County Fairgrounds 328 East 8th Street DeWitt\, IA 52742
UID:e.1774.251
SEQUENCE:3
DTSTAMP:20260421T142358Z
URL:https://business.dewittiowa.org/events/details/dewitt-fire-department-euchre-tournament-fundraiser-02-28-2015-251
END:VEVENT

END:VCALENDAR
