BEGIN:VCALENDAR
VERSION:2.0
PRODID:-//ChamberMaster//Event Calendar 2.0//EN
METHOD:PUBLISH
X-PUBLISHED-TTL:P3D
REFRESH-INTERVAL:P3D
CALSCALE:GREGORIAN
BEGIN:VEVENT
DTSTART:20170726T153000Z
DTEND:20170726T183000Z
X-MICROSOFT-CDO-ALLDAYEVENT:FALSE
SUMMARY:DeWitt Fire Department - Lunch Stand Fundraiser
DESCRIPTION:Menu includes: Ribeye Sandwich Meal - $8 Pork Chop Sandwich Meal - $5 Ribeye Sandwich - $6 Pork Chop Sandwich - $3 Delivery available (5 order minimum) RAIN or SHINE. Proceeds to help fund equipment purchases! Thanks for your support
X-ALT-DESC;FMTTYPE=text/html:Menu includes: Ribeye Sandwich Meal - $8 Pork Chop Sandwich Meal - $5 Ribeye Sandwich - $6 Pork Chop Sandwich - $3 Delivery available (5 order minimum) RAIN or SHINE. Proceeds to help fund equipment purchases! Thanks for your support
LOCATION:DeWitt Fire Station 711 10th Street
UID:e.1774.3154
SEQUENCE:3
DTSTAMP:20260419T152528Z
URL:https://business.dewittiowa.org/events/details/dewitt-fire-department-lunch-stand-fundraiser-3154
END:VEVENT

END:VCALENDAR
