BEGIN:VCALENDAR
VERSION:2.0
PRODID:-//ChamberMaster//Event Calendar 2.0//EN
METHOD:PUBLISH
X-PUBLISHED-TTL:P3D
REFRESH-INTERVAL:P3D
CALSCALE:GREGORIAN
BEGIN:VEVENT
DTSTART:20151014T160000Z
DTEND:20151014T180000Z
X-MICROSOFT-CDO-ALLDAYEVENT:FALSE
SUMMARY:DeWitt Hospital Auxiliary and Foundation Luncheon
DESCRIPTION:Join us for our Fall Luncheon! Menu: Hot pulled chicken sandwich\, variety of salads\, pumpkin or banana bar\, coffee or water. All proceeds will be used for a Stryker Stretcher for use at Genesis-DeWitt. Be sure to stop at the bake sale and book fair!
X-ALT-DESC;FMTTYPE=text/html:Join us for our Fall Luncheon! Menu: Hot pulled chicken sandwich\, variety of salads\, pumpkin or banana bar\, coffee or water. All proceeds will be used for a Stryker Stretcher for use at Genesis-DeWitt. Be sure to stop at the bake sale and book fair!
LOCATION:St. Joe's Church\, Harness Hall
UID:e.1774.1063
SEQUENCE:3
DTSTAMP:20260421T025620Z
URL:https://business.dewittiowa.org/events/details/dewitt-hospital-auxiliary-and-foundation-luncheon-10-14-2015-1063
END:VEVENT

END:VCALENDAR
