BEGIN:VCALENDAR
VERSION:2.0
PRODID:-//ChamberMaster//Event Calendar 2.0//EN
METHOD:PUBLISH
X-PUBLISHED-TTL:P3D
REFRESH-INTERVAL:P3D
CALSCALE:GREGORIAN
BEGIN:VEVENT
DTSTART:20140818T193000Z
DTEND:20140818T233000Z
X-MICROSOFT-CDO-ALLDAYEVENT:FALSE
SUMMARY:DeWitt Hospital Auxiliary Blood Drive
DESCRIPTION:Our blood drive will be held at the DeWitt Community Center. For an appointment call 563-349-1644. Walk-ins are welcome!
X-ALT-DESC;FMTTYPE=text/html:Our blood drive will be held at the DeWitt Community Center. For an appointment call 563-349-1644. Walk-ins are welcome!
LOCATION:DeWitt Community Center 512 10th St. DeWitt
UID:e.1774.121
SEQUENCE:3
DTSTAMP:20260422T011131Z
URL:https://business.dewittiowa.org/events/details/dewitt-hospital-auxiliary-blood-drive-08-18-2014-121
END:VEVENT

END:VCALENDAR
