BEGIN:VCALENDAR
VERSION:2.0
PRODID:-//ChamberMaster//Event Calendar 2.0//EN
METHOD:PUBLISH
X-PUBLISHED-TTL:P3D
REFRESH-INTERVAL:P3D
CALSCALE:GREGORIAN
BEGIN:VEVENT
DTSTART;VALUE=DATE:20140704
DTEND;VALUE=DATE:20140705
TRANSP:TRANSPARENT
X-MICROSOFT-CDO-ALLDAYEVENT:TRUE
SUMMARY:DeWitt IA 4th of July Parade
DESCRIPTION:DeWitt's annual Fourth of July Parade is an old-fashioned\, small-town delight. We almost always start at 10:00 on July 4 and we welcome anyone who wants to celebrate our community to join the parade.\n\n\n\n2014 theme: Celebrating the American Dream\n\n\n\nGo to  "DeWitt IA Fourth of July Parade" on Facebook to message or for more information or contact Dianne Prichard @ 563-659-3921
X-ALT-DESC;FMTTYPE=text/html:<span style="font-size: 14px\;"><span style="line-height: 14.07px\; font-family: &quot\;lucida grande&quot\;\, tahoma\, verdana\, arial\, sans-serif\;">DeWitt&#39\;s annual Fourth of July Parade is an old-fashioned\, small-town delight. We almost always start at 10:00 on July 4 and we welcome anyone who wants to celebrate our community to join the parade.</span></span><br />\n<br />\n<span style="line-height: 20px\; font-family: &quot\;lucida grande&quot\;\, tahoma\, verdana\, arial\, sans-serif\; font-size: 14px\;">2014 theme: Celebrating the American Dream<br />\n<br />\nGo to &nbsp\;&quot\;DeWitt IA Fourth of July Parade&quot\; on Facebook to message or for more information or contact Dianne&nbsp\;Prichard&nbsp\;@ 563-659-3921</span><br />\n&nbsp\;
LOCATION:Click here to see the parade route!
UID:e.1774.54
SEQUENCE:3
DTSTAMP:20260422T011116Z
URL:https://business.dewittiowa.org/events/details/dewitt-ia-4th-of-july-parade-07-04-2014-54
END:VEVENT

END:VCALENDAR
