BEGIN:VCALENDAR
VERSION:2.0
PRODID:-//ChamberMaster//Event Calendar 2.0//EN
METHOD:PUBLISH
X-PUBLISHED-TTL:P3D
REFRESH-INTERVAL:P3D
CALSCALE:GREGORIAN
BEGIN:VEVENT
DTSTART:20160116T003000Z
DTEND:20160116T050000Z
X-MICROSOFT-CDO-ALLDAYEVENT:FALSE
SUMMARY:DeWitt Junior Women Bags Tournament
DESCRIPTION:Please see flyer for The Bags Tournament.  Please email bmaher@dewittbank.com to pre-register.  Grab your friends for a great time!
X-ALT-DESC;FMTTYPE=text/html:Please see flyer for The Bags Tournament.&nbsp\; Please email <a href="mailto:bmaher@dewittbank.com">bmaher@dewittbank.com</a> to pre-register.&nbsp\; Grab your friends for a great time!
LOCATION:
UID:e.1774.1167
SEQUENCE:3
DTSTAMP:20260420T201834Z
URL:https://business.dewittiowa.org/events/details/dewitt-junior-women-bags-tournament-01-15-2016-1167
END:VEVENT

END:VCALENDAR
