BEGIN:VCALENDAR
VERSION:2.0
PRODID:-//ChamberMaster//Event Calendar 2.0//EN
METHOD:PUBLISH
X-PUBLISHED-TTL:P3D
REFRESH-INTERVAL:P3D
CALSCALE:GREGORIAN
BEGIN:VEVENT
DTSTART:20161112T000000Z
DTEND:20161112T030000Z
X-MICROSOFT-CDO-ALLDAYEVENT:FALSE
SUMMARY:DeWitt Junior Women Bags Tournament
DESCRIPTION:$20 per team Single elimination (Best 2 out of 3 games)\n\n1st Place- $40\n\n2nd Place- $20\n\nProceeds help support the Summer Lunch Box Program.
X-ALT-DESC;FMTTYPE=text/html:$20 per team Single elimination (Best 2 out of 3 games)<br />\n1st Place- $40<br />\n2nd Place- $20<br />\nProceeds help support the Summer Lunch Box Program.
LOCATION:Buzzy's Tap\, Welton\, IA
UID:e.1774.1681
SEQUENCE:3
DTSTAMP:20260420T043442Z
URL:https://business.dewittiowa.org/events/details/dewitt-junior-women-bags-tournament-1681
END:VEVENT

END:VCALENDAR
