BEGIN:VCALENDAR
VERSION:2.0
PRODID:-//ChamberMaster//Event Calendar 2.0//EN
METHOD:PUBLISH
X-PUBLISHED-TTL:P3D
REFRESH-INTERVAL:P3D
CALSCALE:GREGORIAN
BEGIN:VEVENT
DTSTART:20150403T140000Z
DTEND:20150403T160000Z
X-MICROSOFT-CDO-ALLDAYEVENT:FALSE
SUMMARY:DeWitt Junior Women Bake Sale
DESCRIPTION:Come pick up some yummy treats for your Easter festivities!
X-ALT-DESC;FMTTYPE=text/html:Come pick up some yummy treats for your Easter festivities!
LOCATION:First Central State Bank
UID:e.1774.346
SEQUENCE:3
DTSTAMP:20260421T124118Z
URL:https://business.dewittiowa.org/events/details/dewitt-junior-women-bake-sale-04-03-2015-346
END:VEVENT

END:VCALENDAR
