BEGIN:VCALENDAR
VERSION:2.0
PRODID:-//ChamberMaster//Event Calendar 2.0//EN
METHOD:PUBLISH
X-PUBLISHED-TTL:P3D
REFRESH-INTERVAL:P3D
CALSCALE:GREGORIAN
BEGIN:VEVENT
DTSTART:20160227T233000Z
DTEND:20160228T030000Z
X-MICROSOFT-CDO-ALLDAYEVENT:FALSE
SUMMARY:DeWitt Junior Women Putt Putt Golf Classic
DESCRIPTION:Putt-Putt Golf Classic followed by Silent Auction\, Prizes and Dinner.
X-ALT-DESC;FMTTYPE=text/html:Putt-Putt Golf Classic followed by Silent Auction\, Prizes and Dinner.
LOCATION:Buzzy's\, Welton
UID:e.1774.1244
SEQUENCE:3
DTSTAMP:20260420T183717Z
URL:https://business.dewittiowa.org/events/details/dewitt-junior-women-putt-putt-golf-classic-02-27-2016-1244
END:VEVENT

END:VCALENDAR
