BEGIN:VCALENDAR
VERSION:2.0
PRODID:-//ChamberMaster//Event Calendar 2.0//EN
METHOD:PUBLISH
X-PUBLISHED-TTL:P3D
REFRESH-INTERVAL:P3D
CALSCALE:GREGORIAN
BEGIN:VEVENT
DTSTART;VALUE=DATE:20150210
DTEND;VALUE=DATE:20150211
TRANSP:TRANSPARENT
X-MICROSOFT-CDO-ALLDAYEVENT:TRUE
SUMMARY:DeWitt Noon Lions Club Travelogue
DESCRIPTION:"The Panama Canal" by Duane and Lynda Miller of Eldridge. Following a short history lesson on the construction of the Panama Canal\, join the Millers as they depart from San Diego and cruise the Pacific Ocean through the Panama Canal and into the Caribbean Sea\, ending up in Fort Lauderdale\, Florida.
X-ALT-DESC;FMTTYPE=text/html:&quot\;The Panama Canal&quot\; by Duane and Lynda Miller of Eldridge. Following a short history lesson on the construction of the Panama Canal\, join the Millers as they depart from San Diego and cruise the Pacific Ocean through the Panama Canal and into the Caribbean Sea\, ending up in Fort Lauderdale\, Florida.&nbsp\;
LOCATION:Operahouse Theatre 712 6th Ave. DeWitt
UID:e.1774.293
SEQUENCE:3
DTSTAMP:20260421T154643Z
URL:https://business.dewittiowa.org/events/details/dewitt-noon-lions-club-travelogue-02-10-2015-293
END:VEVENT

END:VCALENDAR
