BEGIN:VCALENDAR
VERSION:2.0
PRODID:-//ChamberMaster//Event Calendar 2.0//EN
METHOD:PUBLISH
X-PUBLISHED-TTL:P3D
REFRESH-INTERVAL:P3D
CALSCALE:GREGORIAN
BEGIN:VEVENT
DTSTART;VALUE=DATE:20150505
DTEND;VALUE=DATE:20150506
TRANSP:TRANSPARENT
X-MICROSOFT-CDO-ALLDAYEVENT:TRUE
SUMMARY:DeWitt Noon Lions Club Travelogue
DESCRIPTION:Travel to "Enchanting India and Nepal" This trip is a contrast between the old and new in these countries as Marcie Siegel of Walcott travels to the capital of Delhi to visit both this old city of 2\,000 years ago and the new area where the tallest brick minaret in the world is located. Visit the Taj Mahal and the Ganges where people cleanse themselves of their sins. In Nepal see the monkey temple at Kathmandu and the sacred temples for the Buddhists and Hindus.
X-ALT-DESC;FMTTYPE=text/html:Travel to &quot\;Enchanting India and Nepal&quot\; This trip is a contrast between the old and new in these countries as Marcie Siegel of Walcott travels to the capital of Delhi to visit both this old city of 2\,000 years ago and the new area where the tallest brick minaret in the world is located. Visit the Taj Mahal and the Ganges where people cleanse themselves of their sins. In Nepal see the monkey temple at Kathmandu and the sacred temples for the Buddhists and Hindus.
LOCATION:Operahouse Theatre 716 6th Ave. DeWitt\, IA
UID:e.1774.382
SEQUENCE:3
DTSTAMP:20260421T094819Z
URL:https://business.dewittiowa.org/events/details/dewitt-noon-lions-club-travelogue-05-05-2015-382
END:VEVENT

END:VCALENDAR
