BEGIN:VCALENDAR
VERSION:2.0
PRODID:-//ChamberMaster//Event Calendar 2.0//EN
METHOD:PUBLISH
X-PUBLISHED-TTL:P3D
REFRESH-INTERVAL:P3D
CALSCALE:GREGORIAN
BEGIN:VEVENT
DTSTART;VALUE=DATE:20150519
DTEND;VALUE=DATE:20150520
TRANSP:TRANSPARENT
X-MICROSOFT-CDO-ALLDAYEVENT:TRUE
SUMMARY:DeWitt Noon Lions Club Travelogue
DESCRIPTION:DeWayne and Linda Hatcher of LeClaire will take us on an adventure to Austria. As a result of living and working in Austria for John Deere and the Austrian Chamber of Commerce\, the Hatchers were exposed to much more than the average tourist during a two-week vacation. Through their photos and humorous storytelling\, you will experience more about Austria than any other travelogue program. Numerous items and a traditional dirndl dress will also be on display.
X-ALT-DESC;FMTTYPE=text/html:DeWayne and Linda Hatcher of LeClaire will take us on an adventure to Austria. As a result of living and working in Austria for John Deere and the Austrian Chamber of Commerce\, the Hatchers were exposed to much more than the average tourist during a two-week vacation. Through their photos and humorous storytelling\, you will experience more about Austria than any other travelogue program. Numerous items and a traditional dirndl dress will also be on display.
LOCATION:DeWitt Operhouse Theatre 716 6th Ave. DeWitt\, IA
UID:e.1774.383
SEQUENCE:3
DTSTAMP:20260421T094745Z
URL:https://business.dewittiowa.org/events/details/dewitt-noon-lions-club-travelogue-05-19-2015-383
END:VEVENT

END:VCALENDAR
