BEGIN:VCALENDAR
VERSION:2.0
PRODID:-//ChamberMaster//Event Calendar 2.0//EN
METHOD:PUBLISH
X-PUBLISHED-TTL:P3D
REFRESH-INTERVAL:P3D
CALSCALE:GREGORIAN
BEGIN:VEVENT
DTSTART;VALUE=DATE:20140422
DTEND;VALUE=DATE:20140423
TRANSP:TRANSPARENT
X-MICROSOFT-CDO-ALLDAYEVENT:TRUE
SUMMARY:DeWitt Noon Lions Club Travelogue Series
DESCRIPTION:Germany Favorites\n\nby George Kruckenberg
X-ALT-DESC;FMTTYPE=text/html:Germany Favorites<br />\nby George Kruckenberg
LOCATION:Operahouse Theater 712 6th Ave.\, DeWitt
UID:e.1774.32
SEQUENCE:3
DTSTAMP:20260422T074325Z
URL:https://business.dewittiowa.org/events/details/dewitt-noon-lions-club-travelogue-series-04-22-2014-32
END:VEVENT

END:VCALENDAR
