BEGIN:VCALENDAR
VERSION:2.0
PRODID:-//ChamberMaster//Event Calendar 2.0//EN
METHOD:PUBLISH
X-PUBLISHED-TTL:P3D
REFRESH-INTERVAL:P3D
CALSCALE:GREGORIAN
BEGIN:VEVENT
DTSTART:20150310T200000Z
DTEND:20150310T211500Z
X-MICROSOFT-CDO-ALLDAYEVENT:FALSE
SUMMARY:DeWitt Noon Lions Travelogue
DESCRIPTION:"Egypt\, B.C. and A.D." presented by Dick and Shirley Cole of Eldridge. Very few groups venture into Egypt by the Cole's traveled there in 2008 and will share a glimpse into the history and cultures of a one-time great society. Religion prompted some of the greatest architecture and art ever undertaken. Their trip starts at Luxor on the Nile river and travels north to Cairo by ship\, as well as camels\, horses\, feluccas and buses. From Cairo\, they traveled by train to Alexandria to tour the great library and architecture surrounding the port on the Mediterranean Sea
X-ALT-DESC;FMTTYPE=text/html:&quot\;Egypt\, B.C. and A.D.&quot\; presented by Dick and Shirley Cole of Eldridge. Very few groups venture into Egypt by the Cole&#39\;s traveled there in 2008 and will share a glimpse into the history and cultures of a one-time great society. Religion prompted some of the greatest architecture and art ever undertaken. Their trip starts at Luxor on the Nile river and travels north to Cairo by ship\, as well as camels\, horses\, feluccas and buses. From Cairo\, they traveled by train to Alexandria to tour the great library and architecture surrounding the port on the Mediterranean Sea
LOCATION:Operahouse Theatre 716 6th Av. DeWitt\, IA 52742
UID:e.1774.325
SEQUENCE:3
DTSTAMP:20260421T142439Z
URL:https://business.dewittiowa.org/events/details/dewitt-noon-lions-travelogue-03-10-2015-325
END:VEVENT

END:VCALENDAR
