BEGIN:VCALENDAR
VERSION:2.0
PRODID:-//ChamberMaster//Event Calendar 2.0//EN
METHOD:PUBLISH
X-PUBLISHED-TTL:P3D
REFRESH-INTERVAL:P3D
CALSCALE:GREGORIAN
BEGIN:VEVENT
DTSTART:20150818T230000Z
DTEND:20150819T010000Z
X-MICROSOFT-CDO-ALLDAYEVENT:FALSE
SUMMARY:DeWitt Parks & Rec "Tunes in Town"
DESCRIPTION:Free Family Fun!\n\nEvery Tuesday Evening in June\, July & August\n\n(Except August 4 - DeWitt's National Night Out in Lincoln Park)\n\n\n\nBANDS - FOOD VENDORS - SPECIAL GUESTS\n\n\n\nBands will perform at the Community Center if raining or above 95 degrees\n\n\n\nFor more info contact Jerry Jackson at 563-320-6014
X-ALT-DESC;FMTTYPE=text/html:Free Family Fun!<br />\nEvery Tuesday Evening in June\, July &amp\; August<br />\n(Except August 4 - DeWitt&#39\;s National Night Out in Lincoln Park)<br />\n<br />\nBANDS - FOOD VENDORS - SPECIAL GUESTS<br />\n<br />\nBands will perform at the Community Center if raining or above 95 degrees<br />\n<br />\nFor more info contact Jerry Jackson at 563-320-6014
LOCATION:Lincoln Park DeWitt IA
UID:e.1774.379
SEQUENCE:3
DTSTAMP:20260421T044336Z
URL:https://business.dewittiowa.org/events/details/dewitt-parks-rec-tunes-in-town-08-18-2015-379
END:VEVENT

END:VCALENDAR
