BEGIN:VCALENDAR
VERSION:2.0
PRODID:-//ChamberMaster//Event Calendar 2.0//EN
METHOD:PUBLISH
X-PUBLISHED-TTL:P3D
REFRESH-INTERVAL:P3D
CALSCALE:GREGORIAN
BEGIN:VEVENT
DTSTART:20150821T230000Z
DTEND:20150822T010000Z
X-MICROSOFT-CDO-ALLDAYEVENT:FALSE
SUMMARY:DeWitt Police Foundation 5K 1st Annual College Clash Dash
DESCRIPTION:University of Iowa supporters will run the course in a clockwise direction and Iowa State and UNI supporters run the course in a counter-clockwise direction. By running the race in opposite directions participants will be able to display their school colors with pride to their rivals while bragging up their team. No bikes\, strollers or skates will be allowed for the runners safety.
X-ALT-DESC;FMTTYPE=text/html:University of Iowa supporters will run the course in a clockwise direction and Iowa State and UNI supporters run the course in a counter-clockwise direction. By running the race in opposite directions participants will be able to display their school colors with pride to their rivals while bragging up their team. No bikes\, strollers or skates will be allowed for the runners safety.
LOCATION:Lincoln Park\, downtown DeWitt
UID:e.1774.1003
SEQUENCE:3
DTSTAMP:20260421T044415Z
URL:https://business.dewittiowa.org/events/details/dewitt-police-foundation-5k-1st-annual-college-clash-dash-08-21-2015-1003
END:VEVENT

END:VCALENDAR
