BEGIN:VCALENDAR
VERSION:2.0
PRODID:-//ChamberMaster//Event Calendar 2.0//EN
METHOD:PUBLISH
X-PUBLISHED-TTL:P3D
REFRESH-INTERVAL:P3D
CALSCALE:GREGORIAN
BEGIN:VEVENT
DTSTART:20170822T160000Z
DTEND:20170822T190000Z
X-MICROSOFT-CDO-ALLDAYEVENT:FALSE
SUMMARY:DeWitt Police Foundation - lunch fundraiser
DESCRIPTION:The Dewitt Iowa Police Department invites you to "Back the Blue"\n\n\n\nFirst Central State Bank is partnering with the DeWitt Police Department to raise funds for the DeWitt Police Foundation. This non-profit foundation was established to promote crime prevention\, public safety\, and education in the DeWitt area. http://www.dewittpolice.freeservers.com/whats_new.html\n\n\n\nBONUS: the Hidden in Plain Sight Trailer will be available http://powertotheparent.org/hidden-in-plain-sight/  This trailer strengthens one's detective skills as a parent. This trailer provides parents with clues from a teen's bedroom to help them determine whether their child might be experimenting with or using drugs or alcohol. Room d cor\, hidden compartments\, and items to conceal use are located throughout the room. \n\n\n\nJoin us for a fundraiser lunch within the First Central State Bank courtyard on August 22\, 2017\, from 11-2:00. We will be service Happy Joe's Taco in a Bag along with a water for $5.00. \n\n\n\n100% of proceeds to benefit the DeWitt Police Foundation
X-ALT-DESC;FMTTYPE=text/html:<span style="background-color:rgb(255\, 255\, 255)\; color:rgb(75\, 79\, 86)\; font-family:helvetica\,arial\,sans-serif\; font-size:14px">The&nbsp\;</span><a href="https://business.facebook.com/Dewitt-Iowa-Police-Department-592248234145632/?business_id=916892531704856" style="color: rgb(54\, 88\, 153)\; cursor: pointer\; text-decoration-line: none\; font-family: Helvetica\, Arial\, sans-serif\; font-size: 14px\; background-color: rgb(255\, 255\, 255)\;">Dewitt Iowa Police Department</a><span style="background-color:rgb(255\, 255\, 255)\; color:rgb(75\, 79\, 86)\; font-family:helvetica\,arial\,sans-serif\; font-size:14px">&nbsp\;invites you to &quot\;Back the Blue&quot\;</span><br />\n<br />\n<span style="background-color:rgb(255\, 255\, 255)\; color:rgb(75\, 79\, 86)\; font-family:helvetica\,arial\,sans-serif\; font-size:14px">First Central State Bank is partnering with the DeWitt Police Department to raise funds for the DeWitt Police Foundation. This non-profit foundation was established to promote crime prevention\, public safety\, and education in the DeWitt area.&nbsp\;</span><a href="https://l.facebook.com/l.php?u=http%3A%2F%2Fwww.dewittpolice.freeservers.com%2Fwhats_new.html&amp\;h=ATOH_bnMV6ZQgmZwrNyhdpZdVtOsXVsKsdGI3Us47FiwAKNSu27v0-jSeEM45zvypxd1EEdn1i4WMlWnphgB16uzHeHMjdHxAWWW74Dj6iDSZ5iqOMzHAMJv-7fwZglMGah2qRBSuw&amp\;enc=AZPEvCOZbUE7eFpaW4ktXUtEgBpvavV8cN5zxTGnA4xBoUTfmq92gUEsWuuIUr4FLbg&amp\;s=1" rel="nofollow noopener nofollow" style="color: rgb(54\, 88\, 153)\; cursor: pointer\; text-decoration-line: none\; font-family: Helvetica\, Arial\, sans-serif\; font-size: 14px\; background-color: rgb(255\, 255\, 255)\;" target="_blank"><span style="font-family:inherit">http://</span><span style="font-family:inherit">www.dewittpolice.freeserver</span>s.com/whats_new.html</a><br />\n<br />\n<span style="background-color:rgb(255\, 255\, 255)\; color:rgb(75\, 79\, 86)\; font-family:helvetica\,arial\,sans-serif\; font-size:14px">BONUS: the Hidden in Plain Sight Trailer will be available&nbsp\;</span><a href="http://powertotheparent.org/hidden-in-plain-sight/" rel="nofollow noopener nofollow" style="color: rgb(54\, 88\, 153)\; cursor: pointer\; text-decoration-line: none\; font-family: Helvetica\, Arial\, sans-serif\; font-size: 14px\; background-color: rgb(255\, 255\, 255)\;" target="_blank"><span style="font-family:inherit">http://</span><span style="font-family:inherit">powertotheparent.org/</span>hidden-in-plain-sight/</a><span style="background-color:rgb(255\, 255\, 255)\; color:rgb(75\, 79\, 86)\; font-family:helvetica\,arial\,sans-serif\; font-size:14px">&nbsp\;&nbsp\;</span><span style="background-color:rgb(255\, 255\, 255)\; color:rgb(75\, 79\, 86)\; font-family:helvetica\,arial\,sans-serif\; font-size:14px">This trailer strengthens one&#39\;s detective skills as a parent. This trailer provides parents with clues from a teen&rsquo\;s bedroom to help them determine whether their child might be experimenting with or using drugs or alcohol. Room d&eacute\;cor\, hidden compartments\, and items to conceal use are located throughout the room.&nbsp\;</span><br />\n<br />\n<span style="background-color:rgb(255\, 255\, 255)\; color:rgb(75\, 79\, 86)\; font-family:helvetica\,arial\,sans-serif\; font-size:14px">Join us for a fundraiser lunch within the First Central State Bank courtyard on August 22\, 2017\, from 11-2:00. We will be service Happy Joe&#39\;s Taco in a Bag along with a water for $5.00.&nbsp\;</span><br />\n<br />\n<span style="background-color:rgb(255\, 255\, 255)\; color:rgb(75\, 79\, 86)\; font-family:helvetica\,arial\,sans-serif\; font-size:14px">100% of proceeds to benefit the DeWitt Police Foundation</span>
LOCATION:First Central State Bank - outdoor courtyard 914 6th Ave.\, DeWitt\, IA
UID:e.1774.3203
SEQUENCE:3
DTSTAMP:20260419T134746Z
URL:https://business.dewittiowa.org/events/details/dewitt-police-foundation-lunch-fundraiser-3203
END:VEVENT

END:VCALENDAR
