BEGIN:VCALENDAR
VERSION:2.0
PRODID:-//ChamberMaster//Event Calendar 2.0//EN
METHOD:PUBLISH
X-PUBLISHED-TTL:P3D
REFRESH-INTERVAL:P3D
CALSCALE:GREGORIAN
BEGIN:VEVENT
DTSTART:20141015T210000Z
DTEND:20141016T000000Z
X-MICROSOFT-CDO-ALLDAYEVENT:FALSE
SUMMARY:DeWitt's Commercial Property Open House
DESCRIPTION:Opportunity Knocks!\n\nWill You Answer?\n\n\n\nJoin us for DeWitt's Commercial Property Open House\n\nOctober 15th  4-7PM\n\n \n\nTour 15 commercial properties currently for sale or lease in DeWitt.  Each property is unique and full of potential!\n\n\n	 Pick up your property informational packet at our "Home Base Station" located within Whisk Away Cafe and Bakery (919 6th Ave.\, DeWitt\, IA).\n	Tour properties of your choice during the open house timeframe.\n	Stop back to the Home Base Station at Whisk Away for refreshments and chat with local partners.\n\n  For more detailed property information and to see images of all the properties\, visit www.dewittiowa.org and look under the Economic Development tab or contact Tami Petsche at 563-659-8500.
X-ALT-DESC;FMTTYPE=text/html:<br />\n<span style="font-size:14px\;"><span style="font-family:tahoma\;"><span style="font-size:16px\;"><strong>Opportunity Knocks!<br />\nWill You Answer?</strong></span><br />\n<br />\n<strong><span style="font-size:16px\;">Join us for DeWitt&#39\;s Commercial Property Open House<br />\nOctober 15th &nbsp\;4-7PM</span><br />\n&#8203\;<br />\nTour 15 commercial properties currently for sale or lease in DeWitt. &nbsp\;Each property is unique and full of potential!</strong></span></span>\n\n<ul>\n	<li><strong><span style="font-size:14px\;"><span style="font-family:tahoma\;">&#8203\;Pick up your property informational packet at our &quot\;Home Base Station&quot\; located within Whisk Away Cafe and Bakery (919 6th Ave.\, DeWitt\, IA).</span></span></strong></li>\n	<li><strong><span style="font-size:14px\;"><span style="font-family:tahoma\;">Tour properties of your choice during the open house timeframe.</span></span></strong></li>\n	<li><strong><span style="font-size:14px\;"><span style="font-family:tahoma\;">Stop back to the Home Base Station at Whisk Away for refreshments and chat with local partners.</span></span></strong></li>\n</ul>\n<strong> <span style="font-size:14px\;"><span style="font-family:tahoma\;"> For more detailed property information and to see images of all the properties\, visit www.dewittiowa.org and look under the Economic Development tab or contact Tami Petsche at 563-659-8500.</span></span></strong><br />\n&nbsp\;
LOCATION:DeWitt\, IA
UID:e.1774.205
SEQUENCE:3
DTSTAMP:20260421T204159Z
URL:https://business.dewittiowa.org/events/details/dewitt-s-commercial-property-open-house-10-15-2014-205
END:VEVENT

END:VCALENDAR
